BEGIN:VCALENDAR
VERSION:2.0
PRODID:-//ArcheoParc Schnalstal - ECPv6.15.20//NONSGML v1.0//EN
CALSCALE:GREGORIAN
METHOD:PUBLISH
X-WR-CALNAME:ArcheoParc Schnalstal
X-ORIGINAL-URL:https://www.archeoparc.it
X-WR-CALDESC:Veranstaltungen für ArcheoParc Schnalstal
REFRESH-INTERVAL;VALUE=DURATION:PT1H
X-Robots-Tag:noindex
X-PUBLISHED-TTL:PT1H
BEGIN:VTIMEZONE
TZID:Europe/Rome
BEGIN:DAYLIGHT
TZOFFSETFROM:+0100
TZOFFSETTO:+0200
TZNAME:CEST
DTSTART:20250330T010000
END:DAYLIGHT
BEGIN:STANDARD
TZOFFSETFROM:+0200
TZOFFSETTO:+0100
TZNAME:CET
DTSTART:20251026T010000
END:STANDARD
BEGIN:DAYLIGHT
TZOFFSETFROM:+0100
TZOFFSETTO:+0200
TZNAME:CEST
DTSTART:20260329T010000
END:DAYLIGHT
BEGIN:STANDARD
TZOFFSETFROM:+0200
TZOFFSETTO:+0100
TZNAME:CET
DTSTART:20261025T010000
END:STANDARD
BEGIN:DAYLIGHT
TZOFFSETFROM:+0100
TZOFFSETTO:+0200
TZNAME:CEST
DTSTART:20270328T010000
END:DAYLIGHT
BEGIN:STANDARD
TZOFFSETFROM:+0200
TZOFFSETTO:+0100
TZNAME:CET
DTSTART:20271031T010000
END:STANDARD
END:VTIMEZONE
BEGIN:VEVENT
DTSTART;TZID=Europe/Rome:20260502T123000
DTEND;TZID=Europe/Rome:20260502T163000
DTSTAMP:20260421T102725
CREATED:20260302T105450Z
LAST-MODIFIED:20260302T105543Z
UID:10009527-1777725000-1777739400@www.archeoparc.it
SUMMARY:Speckstein bearbeiten in der Besucherwerkstatt (Schmuckanhänger)
DESCRIPTION:Ötzi trug eine gelochte Scheibe aus Kalkstein bei sich. Für Ihre ersten steinzeitliche Schleif-\, Bohr- und Gravierversuche eignet sich ein weniger harter Stein besser: der Speckstein. Lassen Sie Ihrer Fantasie freien Lauf und bleiben Sie dran! Bald schon werden aus den Rohlingen mit Hilfe von Feuersteinbohrern und Sandstein Amulette\, Talismane\, Tierstatuetten\, Schmuckanhänger und vieles andere mehr… \n\n\n\nKeine Anmeldung erforderlich | Beginn mehrmals ab 12:30 Uhr | Im Eintrittspreis enthalten | Parcours 2 | Besucherwerkstatt (#09) | Dauer: ca. 60 min | Letzter Einlass für den Besuch aller Erlebnisstationen 14:00 Uhr
URL:https://www.archeoparc.it/event/speckstein-hart-scheibe/2026-05-02/
CATEGORIES:Mitmachangebote,Workshop,Erwachsene,Kinder in Begleitung,4+,Mehrsprachig
ATTACH;FMTTYPE=image/jpeg:https://www.archeoparc.it/wp-content/uploads/archeoParc-schnalstal-platzhalter-e1458314677915.jpg
END:VEVENT
BEGIN:VEVENT
DTSTART;TZID=Europe/Rome:20260503T123000
DTEND;TZID=Europe/Rome:20260503T163000
DTSTAMP:20260421T102725
CREATED:20260302T105450Z
LAST-MODIFIED:20260302T105543Z
UID:10009528-1777811400-1777825800@www.archeoparc.it
SUMMARY:Speckstein bearbeiten in der Besucherwerkstatt (Schmuckanhänger)
DESCRIPTION:Ötzi trug eine gelochte Scheibe aus Kalkstein bei sich. Für Ihre ersten steinzeitliche Schleif-\, Bohr- und Gravierversuche eignet sich ein weniger harter Stein besser: der Speckstein. Lassen Sie Ihrer Fantasie freien Lauf und bleiben Sie dran! Bald schon werden aus den Rohlingen mit Hilfe von Feuersteinbohrern und Sandstein Amulette\, Talismane\, Tierstatuetten\, Schmuckanhänger und vieles andere mehr… \n\n\n\nKeine Anmeldung erforderlich | Beginn mehrmals ab 12:30 Uhr | Im Eintrittspreis enthalten | Parcours 2 | Besucherwerkstatt (#09) | Dauer: ca. 60 min | Letzter Einlass für den Besuch aller Erlebnisstationen 14:00 Uhr
URL:https://www.archeoparc.it/event/speckstein-hart-scheibe/2026-05-03/
CATEGORIES:Mitmachangebote,Workshop,Erwachsene,Kinder in Begleitung,4+,Mehrsprachig
ATTACH;FMTTYPE=image/jpeg:https://www.archeoparc.it/wp-content/uploads/archeoParc-schnalstal-platzhalter-e1458314677915.jpg
END:VEVENT
BEGIN:VEVENT
DTSTART;TZID=Europe/Rome:20260504T123000
DTEND;TZID=Europe/Rome:20260504T163000
DTSTAMP:20260421T102725
CREATED:20260302T105450Z
LAST-MODIFIED:20260302T105543Z
UID:10009529-1777897800-1777912200@www.archeoparc.it
SUMMARY:Speckstein bearbeiten in der Besucherwerkstatt (Schmuckanhänger)
DESCRIPTION:Ötzi trug eine gelochte Scheibe aus Kalkstein bei sich. Für Ihre ersten steinzeitliche Schleif-\, Bohr- und Gravierversuche eignet sich ein weniger harter Stein besser: der Speckstein. Lassen Sie Ihrer Fantasie freien Lauf und bleiben Sie dran! Bald schon werden aus den Rohlingen mit Hilfe von Feuersteinbohrern und Sandstein Amulette\, Talismane\, Tierstatuetten\, Schmuckanhänger und vieles andere mehr… \n\n\n\nKeine Anmeldung erforderlich | Beginn mehrmals ab 12:30 Uhr | Im Eintrittspreis enthalten | Parcours 2 | Besucherwerkstatt (#09) | Dauer: ca. 60 min | Letzter Einlass für den Besuch aller Erlebnisstationen 14:00 Uhr
URL:https://www.archeoparc.it/event/speckstein-hart-scheibe/2026-05-04/
CATEGORIES:Mitmachangebote,Workshop,Erwachsene,Kinder in Begleitung,4+,Mehrsprachig
ATTACH;FMTTYPE=image/jpeg:https://www.archeoparc.it/wp-content/uploads/archeoParc-schnalstal-platzhalter-e1458314677915.jpg
END:VEVENT
BEGIN:VEVENT
DTSTART;TZID=Europe/Rome:20260523T123000
DTEND;TZID=Europe/Rome:20260523T163000
DTSTAMP:20260421T102725
CREATED:20260302T105450Z
LAST-MODIFIED:20260302T105543Z
UID:10009530-1779539400-1779553800@www.archeoparc.it
SUMMARY:Speckstein bearbeiten in der Besucherwerkstatt (Schmuckanhänger)
DESCRIPTION:Ötzi trug eine gelochte Scheibe aus Kalkstein bei sich. Für Ihre ersten steinzeitliche Schleif-\, Bohr- und Gravierversuche eignet sich ein weniger harter Stein besser: der Speckstein. Lassen Sie Ihrer Fantasie freien Lauf und bleiben Sie dran! Bald schon werden aus den Rohlingen mit Hilfe von Feuersteinbohrern und Sandstein Amulette\, Talismane\, Tierstatuetten\, Schmuckanhänger und vieles andere mehr… \n\n\n\nKeine Anmeldung erforderlich | Beginn mehrmals ab 12:30 Uhr | Im Eintrittspreis enthalten | Parcours 2 | Besucherwerkstatt (#09) | Dauer: ca. 60 min | Letzter Einlass für den Besuch aller Erlebnisstationen 14:00 Uhr
URL:https://www.archeoparc.it/event/speckstein-hart-scheibe/2026-05-23/
CATEGORIES:Mitmachangebote,Workshop,Erwachsene,Kinder in Begleitung,4+,Mehrsprachig
ATTACH;FMTTYPE=image/jpeg:https://www.archeoparc.it/wp-content/uploads/archeoParc-schnalstal-platzhalter-e1458314677915.jpg
END:VEVENT
BEGIN:VEVENT
DTSTART;TZID=Europe/Rome:20260524T123000
DTEND;TZID=Europe/Rome:20260524T163000
DTSTAMP:20260421T102725
CREATED:20260302T105450Z
LAST-MODIFIED:20260302T105543Z
UID:10009531-1779625800-1779640200@www.archeoparc.it
SUMMARY:Speckstein bearbeiten in der Besucherwerkstatt (Schmuckanhänger)
DESCRIPTION:Ötzi trug eine gelochte Scheibe aus Kalkstein bei sich. Für Ihre ersten steinzeitliche Schleif-\, Bohr- und Gravierversuche eignet sich ein weniger harter Stein besser: der Speckstein. Lassen Sie Ihrer Fantasie freien Lauf und bleiben Sie dran! Bald schon werden aus den Rohlingen mit Hilfe von Feuersteinbohrern und Sandstein Amulette\, Talismane\, Tierstatuetten\, Schmuckanhänger und vieles andere mehr… \n\n\n\nKeine Anmeldung erforderlich | Beginn mehrmals ab 12:30 Uhr | Im Eintrittspreis enthalten | Parcours 2 | Besucherwerkstatt (#09) | Dauer: ca. 60 min | Letzter Einlass für den Besuch aller Erlebnisstationen 14:00 Uhr
URL:https://www.archeoparc.it/event/speckstein-hart-scheibe/2026-05-24/
CATEGORIES:Mitmachangebote,Workshop,Erwachsene,Kinder in Begleitung,4+,Mehrsprachig
ATTACH;FMTTYPE=image/jpeg:https://www.archeoparc.it/wp-content/uploads/archeoParc-schnalstal-platzhalter-e1458314677915.jpg
END:VEVENT
BEGIN:VEVENT
DTSTART;TZID=Europe/Rome:20260525T123000
DTEND;TZID=Europe/Rome:20260525T163000
DTSTAMP:20260421T102725
CREATED:20260302T105450Z
LAST-MODIFIED:20260302T105543Z
UID:10009532-1779712200-1779726600@www.archeoparc.it
SUMMARY:Speckstein bearbeiten in der Besucherwerkstatt (Schmuckanhänger)
DESCRIPTION:Ötzi trug eine gelochte Scheibe aus Kalkstein bei sich. Für Ihre ersten steinzeitliche Schleif-\, Bohr- und Gravierversuche eignet sich ein weniger harter Stein besser: der Speckstein. Lassen Sie Ihrer Fantasie freien Lauf und bleiben Sie dran! Bald schon werden aus den Rohlingen mit Hilfe von Feuersteinbohrern und Sandstein Amulette\, Talismane\, Tierstatuetten\, Schmuckanhänger und vieles andere mehr… \n\n\n\nKeine Anmeldung erforderlich | Beginn mehrmals ab 12:30 Uhr | Im Eintrittspreis enthalten | Parcours 2 | Besucherwerkstatt (#09) | Dauer: ca. 60 min | Letzter Einlass für den Besuch aller Erlebnisstationen 14:00 Uhr
URL:https://www.archeoparc.it/event/speckstein-hart-scheibe/2026-05-25/
CATEGORIES:Mitmachangebote,Workshop,Erwachsene,Kinder in Begleitung,4+,Mehrsprachig
ATTACH;FMTTYPE=image/jpeg:https://www.archeoparc.it/wp-content/uploads/archeoParc-schnalstal-platzhalter-e1458314677915.jpg
END:VEVENT
BEGIN:VEVENT
DTSTART;TZID=Europe/Rome:20260602T123000
DTEND;TZID=Europe/Rome:20260602T163000
DTSTAMP:20260421T102725
CREATED:20260302T105450Z
LAST-MODIFIED:20260302T105543Z
UID:10009533-1780403400-1780417800@www.archeoparc.it
SUMMARY:Speckstein bearbeiten in der Besucherwerkstatt (Schmuckanhänger)
DESCRIPTION:Ötzi trug eine gelochte Scheibe aus Kalkstein bei sich. Für Ihre ersten steinzeitliche Schleif-\, Bohr- und Gravierversuche eignet sich ein weniger harter Stein besser: der Speckstein. Lassen Sie Ihrer Fantasie freien Lauf und bleiben Sie dran! Bald schon werden aus den Rohlingen mit Hilfe von Feuersteinbohrern und Sandstein Amulette\, Talismane\, Tierstatuetten\, Schmuckanhänger und vieles andere mehr… \n\n\n\nKeine Anmeldung erforderlich | Beginn mehrmals ab 12:30 Uhr | Im Eintrittspreis enthalten | Parcours 2 | Besucherwerkstatt (#09) | Dauer: ca. 60 min | Letzter Einlass für den Besuch aller Erlebnisstationen 14:00 Uhr
URL:https://www.archeoparc.it/event/speckstein-hart-scheibe/2026-06-02/
CATEGORIES:Mitmachangebote,Workshop,Erwachsene,Kinder in Begleitung,4+,Mehrsprachig
ATTACH;FMTTYPE=image/jpeg:https://www.archeoparc.it/wp-content/uploads/archeoParc-schnalstal-platzhalter-e1458314677915.jpg
END:VEVENT
BEGIN:VEVENT
DTSTART;TZID=Europe/Rome:20260603T123000
DTEND;TZID=Europe/Rome:20260603T163000
DTSTAMP:20260421T102725
CREATED:20260302T105450Z
LAST-MODIFIED:20260302T105543Z
UID:10009534-1780489800-1780504200@www.archeoparc.it
SUMMARY:Speckstein bearbeiten in der Besucherwerkstatt (Schmuckanhänger)
DESCRIPTION:Ötzi trug eine gelochte Scheibe aus Kalkstein bei sich. Für Ihre ersten steinzeitliche Schleif-\, Bohr- und Gravierversuche eignet sich ein weniger harter Stein besser: der Speckstein. Lassen Sie Ihrer Fantasie freien Lauf und bleiben Sie dran! Bald schon werden aus den Rohlingen mit Hilfe von Feuersteinbohrern und Sandstein Amulette\, Talismane\, Tierstatuetten\, Schmuckanhänger und vieles andere mehr… \n\n\n\nKeine Anmeldung erforderlich | Beginn mehrmals ab 12:30 Uhr | Im Eintrittspreis enthalten | Parcours 2 | Besucherwerkstatt (#09) | Dauer: ca. 60 min | Letzter Einlass für den Besuch aller Erlebnisstationen 14:00 Uhr
URL:https://www.archeoparc.it/event/speckstein-hart-scheibe/2026-06-03/
CATEGORIES:Mitmachangebote,Workshop,Erwachsene,Kinder in Begleitung,4+,Mehrsprachig
ATTACH;FMTTYPE=image/jpeg:https://www.archeoparc.it/wp-content/uploads/archeoParc-schnalstal-platzhalter-e1458314677915.jpg
END:VEVENT
BEGIN:VEVENT
DTSTART;TZID=Europe/Rome:20260721T123000
DTEND;TZID=Europe/Rome:20260721T163000
DTSTAMP:20260421T102725
CREATED:20260302T105450Z
LAST-MODIFIED:20260302T105543Z
UID:10009535-1784637000-1784651400@www.archeoparc.it
SUMMARY:Speckstein bearbeiten in der Besucherwerkstatt (Schmuckanhänger)
DESCRIPTION:Ötzi trug eine gelochte Scheibe aus Kalkstein bei sich. Für Ihre ersten steinzeitliche Schleif-\, Bohr- und Gravierversuche eignet sich ein weniger harter Stein besser: der Speckstein. Lassen Sie Ihrer Fantasie freien Lauf und bleiben Sie dran! Bald schon werden aus den Rohlingen mit Hilfe von Feuersteinbohrern und Sandstein Amulette\, Talismane\, Tierstatuetten\, Schmuckanhänger und vieles andere mehr… \n\n\n\nKeine Anmeldung erforderlich | Beginn mehrmals ab 12:30 Uhr | Im Eintrittspreis enthalten | Parcours 2 | Besucherwerkstatt (#09) | Dauer: ca. 60 min | Letzter Einlass für den Besuch aller Erlebnisstationen 14:00 Uhr
URL:https://www.archeoparc.it/event/speckstein-hart-scheibe/2026-07-21/
CATEGORIES:Mitmachangebote,Workshop,Erwachsene,Kinder in Begleitung,4+,Mehrsprachig
ATTACH;FMTTYPE=image/jpeg:https://www.archeoparc.it/wp-content/uploads/archeoParc-schnalstal-platzhalter-e1458314677915.jpg
END:VEVENT
BEGIN:VEVENT
DTSTART;TZID=Europe/Rome:20260722T123000
DTEND;TZID=Europe/Rome:20260722T163000
DTSTAMP:20260421T102725
CREATED:20260302T105450Z
LAST-MODIFIED:20260302T105543Z
UID:10009536-1784723400-1784737800@www.archeoparc.it
SUMMARY:Speckstein bearbeiten in der Besucherwerkstatt (Schmuckanhänger)
DESCRIPTION:Ötzi trug eine gelochte Scheibe aus Kalkstein bei sich. Für Ihre ersten steinzeitliche Schleif-\, Bohr- und Gravierversuche eignet sich ein weniger harter Stein besser: der Speckstein. Lassen Sie Ihrer Fantasie freien Lauf und bleiben Sie dran! Bald schon werden aus den Rohlingen mit Hilfe von Feuersteinbohrern und Sandstein Amulette\, Talismane\, Tierstatuetten\, Schmuckanhänger und vieles andere mehr… \n\n\n\nKeine Anmeldung erforderlich | Beginn mehrmals ab 12:30 Uhr | Im Eintrittspreis enthalten | Parcours 2 | Besucherwerkstatt (#09) | Dauer: ca. 60 min | Letzter Einlass für den Besuch aller Erlebnisstationen 14:00 Uhr
URL:https://www.archeoparc.it/event/speckstein-hart-scheibe/2026-07-22/
CATEGORIES:Mitmachangebote,Workshop,Erwachsene,Kinder in Begleitung,4+,Mehrsprachig
ATTACH;FMTTYPE=image/jpeg:https://www.archeoparc.it/wp-content/uploads/archeoParc-schnalstal-platzhalter-e1458314677915.jpg
END:VEVENT
BEGIN:VEVENT
DTSTART;TZID=Europe/Rome:20260723T123000
DTEND;TZID=Europe/Rome:20260723T163000
DTSTAMP:20260421T102725
CREATED:20260302T105450Z
LAST-MODIFIED:20260302T105543Z
UID:10009537-1784809800-1784824200@www.archeoparc.it
SUMMARY:Speckstein bearbeiten in der Besucherwerkstatt (Schmuckanhänger)
DESCRIPTION:Ötzi trug eine gelochte Scheibe aus Kalkstein bei sich. Für Ihre ersten steinzeitliche Schleif-\, Bohr- und Gravierversuche eignet sich ein weniger harter Stein besser: der Speckstein. Lassen Sie Ihrer Fantasie freien Lauf und bleiben Sie dran! Bald schon werden aus den Rohlingen mit Hilfe von Feuersteinbohrern und Sandstein Amulette\, Talismane\, Tierstatuetten\, Schmuckanhänger und vieles andere mehr… \n\n\n\nKeine Anmeldung erforderlich | Beginn mehrmals ab 12:30 Uhr | Im Eintrittspreis enthalten | Parcours 2 | Besucherwerkstatt (#09) | Dauer: ca. 60 min | Letzter Einlass für den Besuch aller Erlebnisstationen 14:00 Uhr
URL:https://www.archeoparc.it/event/speckstein-hart-scheibe/2026-07-23/
CATEGORIES:Mitmachangebote,Workshop,Erwachsene,Kinder in Begleitung,4+,Mehrsprachig
ATTACH;FMTTYPE=image/jpeg:https://www.archeoparc.it/wp-content/uploads/archeoParc-schnalstal-platzhalter-e1458314677915.jpg
END:VEVENT
BEGIN:VEVENT
DTSTART;TZID=Europe/Rome:20260820T123000
DTEND;TZID=Europe/Rome:20260820T163000
DTSTAMP:20260421T102725
CREATED:20260302T105450Z
LAST-MODIFIED:20260302T105543Z
UID:10009538-1787229000-1787243400@www.archeoparc.it
SUMMARY:Speckstein bearbeiten in der Besucherwerkstatt (Schmuckanhänger)
DESCRIPTION:Ötzi trug eine gelochte Scheibe aus Kalkstein bei sich. Für Ihre ersten steinzeitliche Schleif-\, Bohr- und Gravierversuche eignet sich ein weniger harter Stein besser: der Speckstein. Lassen Sie Ihrer Fantasie freien Lauf und bleiben Sie dran! Bald schon werden aus den Rohlingen mit Hilfe von Feuersteinbohrern und Sandstein Amulette\, Talismane\, Tierstatuetten\, Schmuckanhänger und vieles andere mehr… \n\n\n\nKeine Anmeldung erforderlich | Beginn mehrmals ab 12:30 Uhr | Im Eintrittspreis enthalten | Parcours 2 | Besucherwerkstatt (#09) | Dauer: ca. 60 min | Letzter Einlass für den Besuch aller Erlebnisstationen 14:00 Uhr
URL:https://www.archeoparc.it/event/speckstein-hart-scheibe/2026-08-20/
CATEGORIES:Mitmachangebote,Workshop,Erwachsene,Kinder in Begleitung,4+,Mehrsprachig
ATTACH;FMTTYPE=image/jpeg:https://www.archeoparc.it/wp-content/uploads/archeoParc-schnalstal-platzhalter-e1458314677915.jpg
END:VEVENT
BEGIN:VEVENT
DTSTART;TZID=Europe/Rome:20260821T123000
DTEND;TZID=Europe/Rome:20260821T163000
DTSTAMP:20260421T102725
CREATED:20260302T105450Z
LAST-MODIFIED:20260302T105543Z
UID:10009539-1787315400-1787329800@www.archeoparc.it
SUMMARY:Speckstein bearbeiten in der Besucherwerkstatt (Schmuckanhänger)
DESCRIPTION:Ötzi trug eine gelochte Scheibe aus Kalkstein bei sich. Für Ihre ersten steinzeitliche Schleif-\, Bohr- und Gravierversuche eignet sich ein weniger harter Stein besser: der Speckstein. Lassen Sie Ihrer Fantasie freien Lauf und bleiben Sie dran! Bald schon werden aus den Rohlingen mit Hilfe von Feuersteinbohrern und Sandstein Amulette\, Talismane\, Tierstatuetten\, Schmuckanhänger und vieles andere mehr… \n\n\n\nKeine Anmeldung erforderlich | Beginn mehrmals ab 12:30 Uhr | Im Eintrittspreis enthalten | Parcours 2 | Besucherwerkstatt (#09) | Dauer: ca. 60 min | Letzter Einlass für den Besuch aller Erlebnisstationen 14:00 Uhr
URL:https://www.archeoparc.it/event/speckstein-hart-scheibe/2026-08-21/
CATEGORIES:Mitmachangebote,Workshop,Erwachsene,Kinder in Begleitung,4+,Mehrsprachig
ATTACH;FMTTYPE=image/jpeg:https://www.archeoparc.it/wp-content/uploads/archeoParc-schnalstal-platzhalter-e1458314677915.jpg
END:VEVENT
BEGIN:VEVENT
DTSTART;TZID=Europe/Rome:20260822T123000
DTEND;TZID=Europe/Rome:20260822T163000
DTSTAMP:20260421T102725
CREATED:20260302T105450Z
LAST-MODIFIED:20260302T105543Z
UID:10009540-1787401800-1787416200@www.archeoparc.it
SUMMARY:Speckstein bearbeiten in der Besucherwerkstatt (Schmuckanhänger)
DESCRIPTION:Ötzi trug eine gelochte Scheibe aus Kalkstein bei sich. Für Ihre ersten steinzeitliche Schleif-\, Bohr- und Gravierversuche eignet sich ein weniger harter Stein besser: der Speckstein. Lassen Sie Ihrer Fantasie freien Lauf und bleiben Sie dran! Bald schon werden aus den Rohlingen mit Hilfe von Feuersteinbohrern und Sandstein Amulette\, Talismane\, Tierstatuetten\, Schmuckanhänger und vieles andere mehr… \n\n\n\nKeine Anmeldung erforderlich | Beginn mehrmals ab 12:30 Uhr | Im Eintrittspreis enthalten | Parcours 2 | Besucherwerkstatt (#09) | Dauer: ca. 60 min | Letzter Einlass für den Besuch aller Erlebnisstationen 14:00 Uhr
URL:https://www.archeoparc.it/event/speckstein-hart-scheibe/2026-08-22/
CATEGORIES:Mitmachangebote,Workshop,Erwachsene,Kinder in Begleitung,4+,Mehrsprachig
ATTACH;FMTTYPE=image/jpeg:https://www.archeoparc.it/wp-content/uploads/archeoParc-schnalstal-platzhalter-e1458314677915.jpg
END:VEVENT
BEGIN:VEVENT
DTSTART;TZID=Europe/Rome:20260823T123000
DTEND;TZID=Europe/Rome:20260823T163000
DTSTAMP:20260421T102725
CREATED:20260302T105450Z
LAST-MODIFIED:20260302T105543Z
UID:10009541-1787488200-1787502600@www.archeoparc.it
SUMMARY:Speckstein bearbeiten in der Besucherwerkstatt (Schmuckanhänger)
DESCRIPTION:Ötzi trug eine gelochte Scheibe aus Kalkstein bei sich. Für Ihre ersten steinzeitliche Schleif-\, Bohr- und Gravierversuche eignet sich ein weniger harter Stein besser: der Speckstein. Lassen Sie Ihrer Fantasie freien Lauf und bleiben Sie dran! Bald schon werden aus den Rohlingen mit Hilfe von Feuersteinbohrern und Sandstein Amulette\, Talismane\, Tierstatuetten\, Schmuckanhänger und vieles andere mehr… \n\n\n\nKeine Anmeldung erforderlich | Beginn mehrmals ab 12:30 Uhr | Im Eintrittspreis enthalten | Parcours 2 | Besucherwerkstatt (#09) | Dauer: ca. 60 min | Letzter Einlass für den Besuch aller Erlebnisstationen 14:00 Uhr
URL:https://www.archeoparc.it/event/speckstein-hart-scheibe/2026-08-23/
CATEGORIES:Mitmachangebote,Workshop,Erwachsene,Kinder in Begleitung,4+,Mehrsprachig
ATTACH;FMTTYPE=image/jpeg:https://www.archeoparc.it/wp-content/uploads/archeoParc-schnalstal-platzhalter-e1458314677915.jpg
END:VEVENT
BEGIN:VEVENT
DTSTART;TZID=Europe/Rome:20261008T123000
DTEND;TZID=Europe/Rome:20261008T163000
DTSTAMP:20260421T102725
CREATED:20260302T105450Z
LAST-MODIFIED:20260302T105543Z
UID:10009542-1791462600-1791477000@www.archeoparc.it
SUMMARY:Speckstein bearbeiten in der Besucherwerkstatt (Schmuckanhänger)
DESCRIPTION:Ötzi trug eine gelochte Scheibe aus Kalkstein bei sich. Für Ihre ersten steinzeitliche Schleif-\, Bohr- und Gravierversuche eignet sich ein weniger harter Stein besser: der Speckstein. Lassen Sie Ihrer Fantasie freien Lauf und bleiben Sie dran! Bald schon werden aus den Rohlingen mit Hilfe von Feuersteinbohrern und Sandstein Amulette\, Talismane\, Tierstatuetten\, Schmuckanhänger und vieles andere mehr… \n\n\n\nKeine Anmeldung erforderlich | Beginn mehrmals ab 12:30 Uhr | Im Eintrittspreis enthalten | Parcours 2 | Besucherwerkstatt (#09) | Dauer: ca. 60 min | Letzter Einlass für den Besuch aller Erlebnisstationen 14:00 Uhr
URL:https://www.archeoparc.it/event/speckstein-hart-scheibe/2026-10-08/
CATEGORIES:Mitmachangebote,Workshop,Erwachsene,Kinder in Begleitung,4+,Mehrsprachig
ATTACH;FMTTYPE=image/jpeg:https://www.archeoparc.it/wp-content/uploads/archeoParc-schnalstal-platzhalter-e1458314677915.jpg
END:VEVENT
BEGIN:VEVENT
DTSTART;TZID=Europe/Rome:20261009T123000
DTEND;TZID=Europe/Rome:20261009T163000
DTSTAMP:20260421T102725
CREATED:20260302T105450Z
LAST-MODIFIED:20260302T105543Z
UID:10009543-1791549000-1791563400@www.archeoparc.it
SUMMARY:Speckstein bearbeiten in der Besucherwerkstatt (Schmuckanhänger)
DESCRIPTION:Ötzi trug eine gelochte Scheibe aus Kalkstein bei sich. Für Ihre ersten steinzeitliche Schleif-\, Bohr- und Gravierversuche eignet sich ein weniger harter Stein besser: der Speckstein. Lassen Sie Ihrer Fantasie freien Lauf und bleiben Sie dran! Bald schon werden aus den Rohlingen mit Hilfe von Feuersteinbohrern und Sandstein Amulette\, Talismane\, Tierstatuetten\, Schmuckanhänger und vieles andere mehr… \n\n\n\nKeine Anmeldung erforderlich | Beginn mehrmals ab 12:30 Uhr | Im Eintrittspreis enthalten | Parcours 2 | Besucherwerkstatt (#09) | Dauer: ca. 60 min | Letzter Einlass für den Besuch aller Erlebnisstationen 14:00 Uhr
URL:https://www.archeoparc.it/event/speckstein-hart-scheibe/2026-10-09/
CATEGORIES:Mitmachangebote,Workshop,Erwachsene,Kinder in Begleitung,4+,Mehrsprachig
ATTACH;FMTTYPE=image/jpeg:https://www.archeoparc.it/wp-content/uploads/archeoParc-schnalstal-platzhalter-e1458314677915.jpg
END:VEVENT
BEGIN:VEVENT
DTSTART;TZID=Europe/Rome:20261102T123000
DTEND;TZID=Europe/Rome:20261102T163000
DTSTAMP:20260421T102725
CREATED:20260302T105450Z
LAST-MODIFIED:20260302T105543Z
UID:10009544-1793622600-1793637000@www.archeoparc.it
SUMMARY:Speckstein bearbeiten in der Besucherwerkstatt (Schmuckanhänger)
DESCRIPTION:Ötzi trug eine gelochte Scheibe aus Kalkstein bei sich. Für Ihre ersten steinzeitliche Schleif-\, Bohr- und Gravierversuche eignet sich ein weniger harter Stein besser: der Speckstein. Lassen Sie Ihrer Fantasie freien Lauf und bleiben Sie dran! Bald schon werden aus den Rohlingen mit Hilfe von Feuersteinbohrern und Sandstein Amulette\, Talismane\, Tierstatuetten\, Schmuckanhänger und vieles andere mehr… \n\n\n\nKeine Anmeldung erforderlich | Beginn mehrmals ab 12:30 Uhr | Im Eintrittspreis enthalten | Parcours 2 | Besucherwerkstatt (#09) | Dauer: ca. 60 min | Letzter Einlass für den Besuch aller Erlebnisstationen 14:00 Uhr
URL:https://www.archeoparc.it/event/speckstein-hart-scheibe/2026-11-02/
CATEGORIES:Mitmachangebote,Workshop,Erwachsene,Kinder in Begleitung,4+,Mehrsprachig
ATTACH;FMTTYPE=image/jpeg:https://www.archeoparc.it/wp-content/uploads/archeoParc-schnalstal-platzhalter-e1458314677915.jpg
END:VEVENT
BEGIN:VEVENT
DTSTART;TZID=Europe/Rome:20261103T123000
DTEND;TZID=Europe/Rome:20261103T163000
DTSTAMP:20260421T102725
CREATED:20260302T105450Z
LAST-MODIFIED:20260302T105543Z
UID:10009545-1793709000-1793723400@www.archeoparc.it
SUMMARY:Speckstein bearbeiten in der Besucherwerkstatt (Schmuckanhänger)
DESCRIPTION:Ötzi trug eine gelochte Scheibe aus Kalkstein bei sich. Für Ihre ersten steinzeitliche Schleif-\, Bohr- und Gravierversuche eignet sich ein weniger harter Stein besser: der Speckstein. Lassen Sie Ihrer Fantasie freien Lauf und bleiben Sie dran! Bald schon werden aus den Rohlingen mit Hilfe von Feuersteinbohrern und Sandstein Amulette\, Talismane\, Tierstatuetten\, Schmuckanhänger und vieles andere mehr… \n\n\n\nKeine Anmeldung erforderlich | Beginn mehrmals ab 12:30 Uhr | Im Eintrittspreis enthalten | Parcours 2 | Besucherwerkstatt (#09) | Dauer: ca. 60 min | Letzter Einlass für den Besuch aller Erlebnisstationen 14:00 Uhr
URL:https://www.archeoparc.it/event/speckstein-hart-scheibe/2026-11-03/
CATEGORIES:Mitmachangebote,Workshop,Erwachsene,Kinder in Begleitung,4+,Mehrsprachig
ATTACH;FMTTYPE=image/jpeg:https://www.archeoparc.it/wp-content/uploads/archeoParc-schnalstal-platzhalter-e1458314677915.jpg
END:VEVENT
BEGIN:VEVENT
DTSTART;TZID=Europe/Rome:20261104T123000
DTEND;TZID=Europe/Rome:20261104T163000
DTSTAMP:20260421T102725
CREATED:20260302T105450Z
LAST-MODIFIED:20260302T105543Z
UID:10009546-1793795400-1793809800@www.archeoparc.it
SUMMARY:Speckstein bearbeiten in der Besucherwerkstatt (Schmuckanhänger)
DESCRIPTION:Ötzi trug eine gelochte Scheibe aus Kalkstein bei sich. Für Ihre ersten steinzeitliche Schleif-\, Bohr- und Gravierversuche eignet sich ein weniger harter Stein besser: der Speckstein. Lassen Sie Ihrer Fantasie freien Lauf und bleiben Sie dran! Bald schon werden aus den Rohlingen mit Hilfe von Feuersteinbohrern und Sandstein Amulette\, Talismane\, Tierstatuetten\, Schmuckanhänger und vieles andere mehr… \n\n\n\nKeine Anmeldung erforderlich | Beginn mehrmals ab 12:30 Uhr | Im Eintrittspreis enthalten | Parcours 2 | Besucherwerkstatt (#09) | Dauer: ca. 60 min | Letzter Einlass für den Besuch aller Erlebnisstationen 14:00 Uhr
URL:https://www.archeoparc.it/event/speckstein-hart-scheibe/2026-11-04/
CATEGORIES:Mitmachangebote,Workshop,Erwachsene,Kinder in Begleitung,4+,Mehrsprachig
ATTACH;FMTTYPE=image/jpeg:https://www.archeoparc.it/wp-content/uploads/archeoParc-schnalstal-platzhalter-e1458314677915.jpg
END:VEVENT
END:VCALENDAR