BEGIN:VCALENDAR
VERSION:2.0
PRODID:-//ArcheoParc Schnalstal - ECPv6.15.20//NONSGML v1.0//EN
CALSCALE:GREGORIAN
METHOD:PUBLISH
X-WR-CALNAME:ArcheoParc Schnalstal
X-ORIGINAL-URL:https://www.archeoparc.it
X-WR-CALDESC:Veranstaltungen für ArcheoParc Schnalstal
REFRESH-INTERVAL;VALUE=DURATION:PT1H
X-Robots-Tag:noindex
X-PUBLISHED-TTL:PT1H
BEGIN:VTIMEZONE
TZID:Europe/Rome
BEGIN:DAYLIGHT
TZOFFSETFROM:+0100
TZOFFSETTO:+0200
TZNAME:CEST
DTSTART:20250330T010000
END:DAYLIGHT
BEGIN:STANDARD
TZOFFSETFROM:+0200
TZOFFSETTO:+0100
TZNAME:CET
DTSTART:20251026T010000
END:STANDARD
BEGIN:DAYLIGHT
TZOFFSETFROM:+0100
TZOFFSETTO:+0200
TZNAME:CEST
DTSTART:20260329T010000
END:DAYLIGHT
BEGIN:STANDARD
TZOFFSETFROM:+0200
TZOFFSETTO:+0100
TZNAME:CET
DTSTART:20261025T010000
END:STANDARD
BEGIN:DAYLIGHT
TZOFFSETFROM:+0100
TZOFFSETTO:+0200
TZNAME:CEST
DTSTART:20270328T010000
END:DAYLIGHT
BEGIN:STANDARD
TZOFFSETFROM:+0200
TZOFFSETTO:+0100
TZNAME:CET
DTSTART:20271031T010000
END:STANDARD
END:VTIMEZONE
BEGIN:VEVENT
DTSTART;TZID=Europe/Rome:20260505T123000
DTEND;TZID=Europe/Rome:20260505T163000
DTSTAMP:20260419T194404
CREATED:20260302T152548Z
LAST-MODIFIED:20260302T152552Z
UID:10009597-1777984200-1777998600@www.archeoparc.it
SUMMARY:Handweben in der Besucherwerkstatt (Armband)
DESCRIPTION:Weben ist bereits seit der Jungsteinzeit bekannt und seither eine der wichtigsten Kulturtechniken des Menschen. Unsere Kulturvermittler laden Sie ein\, diese bis heute wichtige Kulturtechnik selbst auszuprobieren und ein Armband in Leinwandbindung herzustellen. \n\n\n\nKeine Anmeldung erforderlich | Beginn mehrmals ab 12:30 Uhr | Im Eintrittspreis enthalten | Parcours 2 | Besucherwerkstatt (#09) | Dauer: 40-60 min | Letzter Einlass für den Besuch aller Erlebnisstationen 14:00 Uhr
URL:https://www.archeoparc.it/event/bw-weben-leinwandbindung/2026-05-05/
CATEGORIES:Mitmachangebote,Workshop,Erwachsene,Kinder in Begleitung,4+,Mehrsprachig
ATTACH;FMTTYPE=image/jpeg:https://www.archeoparc.it/wp-content/uploads/archeoParc-schnalstal-platzhalter-e1458314677915.jpg
END:VEVENT
BEGIN:VEVENT
DTSTART;TZID=Europe/Rome:20260506T123000
DTEND;TZID=Europe/Rome:20260506T163000
DTSTAMP:20260419T194404
CREATED:20260302T152548Z
LAST-MODIFIED:20260302T152552Z
UID:10009598-1778070600-1778085000@www.archeoparc.it
SUMMARY:Handweben in der Besucherwerkstatt (Armband)
DESCRIPTION:Weben ist bereits seit der Jungsteinzeit bekannt und seither eine der wichtigsten Kulturtechniken des Menschen. Unsere Kulturvermittler laden Sie ein\, diese bis heute wichtige Kulturtechnik selbst auszuprobieren und ein Armband in Leinwandbindung herzustellen. \n\n\n\nKeine Anmeldung erforderlich | Beginn mehrmals ab 12:30 Uhr | Im Eintrittspreis enthalten | Parcours 2 | Besucherwerkstatt (#09) | Dauer: 40-60 min | Letzter Einlass für den Besuch aller Erlebnisstationen 14:00 Uhr
URL:https://www.archeoparc.it/event/bw-weben-leinwandbindung/2026-05-06/
CATEGORIES:Mitmachangebote,Workshop,Erwachsene,Kinder in Begleitung,4+,Mehrsprachig
ATTACH;FMTTYPE=image/jpeg:https://www.archeoparc.it/wp-content/uploads/archeoParc-schnalstal-platzhalter-e1458314677915.jpg
END:VEVENT
BEGIN:VEVENT
DTSTART;TZID=Europe/Rome:20260507T123000
DTEND;TZID=Europe/Rome:20260507T163000
DTSTAMP:20260419T194404
CREATED:20260302T152548Z
LAST-MODIFIED:20260302T152552Z
UID:10009599-1778157000-1778171400@www.archeoparc.it
SUMMARY:Handweben in der Besucherwerkstatt (Armband)
DESCRIPTION:Weben ist bereits seit der Jungsteinzeit bekannt und seither eine der wichtigsten Kulturtechniken des Menschen. Unsere Kulturvermittler laden Sie ein\, diese bis heute wichtige Kulturtechnik selbst auszuprobieren und ein Armband in Leinwandbindung herzustellen. \n\n\n\nKeine Anmeldung erforderlich | Beginn mehrmals ab 12:30 Uhr | Im Eintrittspreis enthalten | Parcours 2 | Besucherwerkstatt (#09) | Dauer: 40-60 min | Letzter Einlass für den Besuch aller Erlebnisstationen 14:00 Uhr
URL:https://www.archeoparc.it/event/bw-weben-leinwandbindung/2026-05-07/
CATEGORIES:Mitmachangebote,Workshop,Erwachsene,Kinder in Begleitung,4+,Mehrsprachig
ATTACH;FMTTYPE=image/jpeg:https://www.archeoparc.it/wp-content/uploads/archeoParc-schnalstal-platzhalter-e1458314677915.jpg
END:VEVENT
BEGIN:VEVENT
DTSTART;TZID=Europe/Rome:20260604T123000
DTEND;TZID=Europe/Rome:20260604T163000
DTSTAMP:20260419T194404
CREATED:20260302T152548Z
LAST-MODIFIED:20260302T152552Z
UID:10009600-1780576200-1780590600@www.archeoparc.it
SUMMARY:Handweben in der Besucherwerkstatt (Armband)
DESCRIPTION:Weben ist bereits seit der Jungsteinzeit bekannt und seither eine der wichtigsten Kulturtechniken des Menschen. Unsere Kulturvermittler laden Sie ein\, diese bis heute wichtige Kulturtechnik selbst auszuprobieren und ein Armband in Leinwandbindung herzustellen. \n\n\n\nKeine Anmeldung erforderlich | Beginn mehrmals ab 12:30 Uhr | Im Eintrittspreis enthalten | Parcours 2 | Besucherwerkstatt (#09) | Dauer: 40-60 min | Letzter Einlass für den Besuch aller Erlebnisstationen 14:00 Uhr
URL:https://www.archeoparc.it/event/bw-weben-leinwandbindung/2026-06-04/
CATEGORIES:Mitmachangebote,Workshop,Erwachsene,Kinder in Begleitung,4+,Mehrsprachig
ATTACH;FMTTYPE=image/jpeg:https://www.archeoparc.it/wp-content/uploads/archeoParc-schnalstal-platzhalter-e1458314677915.jpg
END:VEVENT
BEGIN:VEVENT
DTSTART;TZID=Europe/Rome:20260605T123000
DTEND;TZID=Europe/Rome:20260605T163000
DTSTAMP:20260419T194404
CREATED:20260302T152548Z
LAST-MODIFIED:20260302T152552Z
UID:10009601-1780662600-1780677000@www.archeoparc.it
SUMMARY:Handweben in der Besucherwerkstatt (Armband)
DESCRIPTION:Weben ist bereits seit der Jungsteinzeit bekannt und seither eine der wichtigsten Kulturtechniken des Menschen. Unsere Kulturvermittler laden Sie ein\, diese bis heute wichtige Kulturtechnik selbst auszuprobieren und ein Armband in Leinwandbindung herzustellen. \n\n\n\nKeine Anmeldung erforderlich | Beginn mehrmals ab 12:30 Uhr | Im Eintrittspreis enthalten | Parcours 2 | Besucherwerkstatt (#09) | Dauer: 40-60 min | Letzter Einlass für den Besuch aller Erlebnisstationen 14:00 Uhr
URL:https://www.archeoparc.it/event/bw-weben-leinwandbindung/2026-06-05/
CATEGORIES:Mitmachangebote,Workshop,Erwachsene,Kinder in Begleitung,4+,Mehrsprachig
ATTACH;FMTTYPE=image/jpeg:https://www.archeoparc.it/wp-content/uploads/archeoParc-schnalstal-platzhalter-e1458314677915.jpg
END:VEVENT
BEGIN:VEVENT
DTSTART;TZID=Europe/Rome:20260606T123000
DTEND;TZID=Europe/Rome:20260606T163000
DTSTAMP:20260419T194404
CREATED:20260302T152548Z
LAST-MODIFIED:20260302T152552Z
UID:10009602-1780749000-1780763400@www.archeoparc.it
SUMMARY:Handweben in der Besucherwerkstatt (Armband)
DESCRIPTION:Weben ist bereits seit der Jungsteinzeit bekannt und seither eine der wichtigsten Kulturtechniken des Menschen. Unsere Kulturvermittler laden Sie ein\, diese bis heute wichtige Kulturtechnik selbst auszuprobieren und ein Armband in Leinwandbindung herzustellen. \n\n\n\nKeine Anmeldung erforderlich | Beginn mehrmals ab 12:30 Uhr | Im Eintrittspreis enthalten | Parcours 2 | Besucherwerkstatt (#09) | Dauer: 40-60 min | Letzter Einlass für den Besuch aller Erlebnisstationen 14:00 Uhr
URL:https://www.archeoparc.it/event/bw-weben-leinwandbindung/2026-06-06/
CATEGORIES:Mitmachangebote,Workshop,Erwachsene,Kinder in Begleitung,4+,Mehrsprachig
ATTACH;FMTTYPE=image/jpeg:https://www.archeoparc.it/wp-content/uploads/archeoParc-schnalstal-platzhalter-e1458314677915.jpg
END:VEVENT
BEGIN:VEVENT
DTSTART;TZID=Europe/Rome:20260607T123000
DTEND;TZID=Europe/Rome:20260607T163000
DTSTAMP:20260419T194404
CREATED:20260302T152548Z
LAST-MODIFIED:20260302T152552Z
UID:10009603-1780835400-1780849800@www.archeoparc.it
SUMMARY:Handweben in der Besucherwerkstatt (Armband)
DESCRIPTION:Weben ist bereits seit der Jungsteinzeit bekannt und seither eine der wichtigsten Kulturtechniken des Menschen. Unsere Kulturvermittler laden Sie ein\, diese bis heute wichtige Kulturtechnik selbst auszuprobieren und ein Armband in Leinwandbindung herzustellen. \n\n\n\nKeine Anmeldung erforderlich | Beginn mehrmals ab 12:30 Uhr | Im Eintrittspreis enthalten | Parcours 2 | Besucherwerkstatt (#09) | Dauer: 40-60 min | Letzter Einlass für den Besuch aller Erlebnisstationen 14:00 Uhr
URL:https://www.archeoparc.it/event/bw-weben-leinwandbindung/2026-06-07/
CATEGORIES:Mitmachangebote,Workshop,Erwachsene,Kinder in Begleitung,4+,Mehrsprachig
ATTACH;FMTTYPE=image/jpeg:https://www.archeoparc.it/wp-content/uploads/archeoParc-schnalstal-platzhalter-e1458314677915.jpg
END:VEVENT
BEGIN:VEVENT
DTSTART;TZID=Europe/Rome:20260730T123000
DTEND;TZID=Europe/Rome:20260730T163000
DTSTAMP:20260419T194404
CREATED:20260302T152548Z
LAST-MODIFIED:20260302T152552Z
UID:10009604-1785414600-1785429000@www.archeoparc.it
SUMMARY:Handweben in der Besucherwerkstatt (Armband)
DESCRIPTION:Weben ist bereits seit der Jungsteinzeit bekannt und seither eine der wichtigsten Kulturtechniken des Menschen. Unsere Kulturvermittler laden Sie ein\, diese bis heute wichtige Kulturtechnik selbst auszuprobieren und ein Armband in Leinwandbindung herzustellen. \n\n\n\nKeine Anmeldung erforderlich | Beginn mehrmals ab 12:30 Uhr | Im Eintrittspreis enthalten | Parcours 2 | Besucherwerkstatt (#09) | Dauer: 40-60 min | Letzter Einlass für den Besuch aller Erlebnisstationen 14:00 Uhr
URL:https://www.archeoparc.it/event/bw-weben-leinwandbindung/2026-07-30/
CATEGORIES:Mitmachangebote,Workshop,Erwachsene,Kinder in Begleitung,4+,Mehrsprachig
ATTACH;FMTTYPE=image/jpeg:https://www.archeoparc.it/wp-content/uploads/archeoParc-schnalstal-platzhalter-e1458314677915.jpg
END:VEVENT
BEGIN:VEVENT
DTSTART;TZID=Europe/Rome:20260731T123000
DTEND;TZID=Europe/Rome:20260731T163000
DTSTAMP:20260419T194404
CREATED:20260302T152548Z
LAST-MODIFIED:20260302T152552Z
UID:10009605-1785501000-1785515400@www.archeoparc.it
SUMMARY:Handweben in der Besucherwerkstatt (Armband)
DESCRIPTION:Weben ist bereits seit der Jungsteinzeit bekannt und seither eine der wichtigsten Kulturtechniken des Menschen. Unsere Kulturvermittler laden Sie ein\, diese bis heute wichtige Kulturtechnik selbst auszuprobieren und ein Armband in Leinwandbindung herzustellen. \n\n\n\nKeine Anmeldung erforderlich | Beginn mehrmals ab 12:30 Uhr | Im Eintrittspreis enthalten | Parcours 2 | Besucherwerkstatt (#09) | Dauer: 40-60 min | Letzter Einlass für den Besuch aller Erlebnisstationen 14:00 Uhr
URL:https://www.archeoparc.it/event/bw-weben-leinwandbindung/2026-07-31/
CATEGORIES:Mitmachangebote,Workshop,Erwachsene,Kinder in Begleitung,4+,Mehrsprachig
ATTACH;FMTTYPE=image/jpeg:https://www.archeoparc.it/wp-content/uploads/archeoParc-schnalstal-platzhalter-e1458314677915.jpg
END:VEVENT
BEGIN:VEVENT
DTSTART;TZID=Europe/Rome:20260829T123000
DTEND;TZID=Europe/Rome:20260829T163000
DTSTAMP:20260419T194404
CREATED:20260302T152548Z
LAST-MODIFIED:20260302T152552Z
UID:10009606-1788006600-1788021000@www.archeoparc.it
SUMMARY:Handweben in der Besucherwerkstatt (Armband)
DESCRIPTION:Weben ist bereits seit der Jungsteinzeit bekannt und seither eine der wichtigsten Kulturtechniken des Menschen. Unsere Kulturvermittler laden Sie ein\, diese bis heute wichtige Kulturtechnik selbst auszuprobieren und ein Armband in Leinwandbindung herzustellen. \n\n\n\nKeine Anmeldung erforderlich | Beginn mehrmals ab 12:30 Uhr | Im Eintrittspreis enthalten | Parcours 2 | Besucherwerkstatt (#09) | Dauer: 40-60 min | Letzter Einlass für den Besuch aller Erlebnisstationen 14:00 Uhr
URL:https://www.archeoparc.it/event/bw-weben-leinwandbindung/2026-08-29/
CATEGORIES:Mitmachangebote,Workshop,Erwachsene,Kinder in Begleitung,4+,Mehrsprachig
ATTACH;FMTTYPE=image/jpeg:https://www.archeoparc.it/wp-content/uploads/archeoParc-schnalstal-platzhalter-e1458314677915.jpg
END:VEVENT
BEGIN:VEVENT
DTSTART;TZID=Europe/Rome:20260830T123000
DTEND;TZID=Europe/Rome:20260830T163000
DTSTAMP:20260419T194404
CREATED:20260302T152548Z
LAST-MODIFIED:20260302T152552Z
UID:10009607-1788093000-1788107400@www.archeoparc.it
SUMMARY:Handweben in der Besucherwerkstatt (Armband)
DESCRIPTION:Weben ist bereits seit der Jungsteinzeit bekannt und seither eine der wichtigsten Kulturtechniken des Menschen. Unsere Kulturvermittler laden Sie ein\, diese bis heute wichtige Kulturtechnik selbst auszuprobieren und ein Armband in Leinwandbindung herzustellen. \n\n\n\nKeine Anmeldung erforderlich | Beginn mehrmals ab 12:30 Uhr | Im Eintrittspreis enthalten | Parcours 2 | Besucherwerkstatt (#09) | Dauer: 40-60 min | Letzter Einlass für den Besuch aller Erlebnisstationen 14:00 Uhr
URL:https://www.archeoparc.it/event/bw-weben-leinwandbindung/2026-08-30/
CATEGORIES:Mitmachangebote,Workshop,Erwachsene,Kinder in Begleitung,4+,Mehrsprachig
ATTACH;FMTTYPE=image/jpeg:https://www.archeoparc.it/wp-content/uploads/archeoParc-schnalstal-platzhalter-e1458314677915.jpg
END:VEVENT
BEGIN:VEVENT
DTSTART;TZID=Europe/Rome:20260831T123000
DTEND;TZID=Europe/Rome:20260831T163000
DTSTAMP:20260419T194404
CREATED:20260302T152548Z
LAST-MODIFIED:20260302T152552Z
UID:10009608-1788179400-1788193800@www.archeoparc.it
SUMMARY:Handweben in der Besucherwerkstatt (Armband)
DESCRIPTION:Weben ist bereits seit der Jungsteinzeit bekannt und seither eine der wichtigsten Kulturtechniken des Menschen. Unsere Kulturvermittler laden Sie ein\, diese bis heute wichtige Kulturtechnik selbst auszuprobieren und ein Armband in Leinwandbindung herzustellen. \n\n\n\nKeine Anmeldung erforderlich | Beginn mehrmals ab 12:30 Uhr | Im Eintrittspreis enthalten | Parcours 2 | Besucherwerkstatt (#09) | Dauer: 40-60 min | Letzter Einlass für den Besuch aller Erlebnisstationen 14:00 Uhr
URL:https://www.archeoparc.it/event/bw-weben-leinwandbindung/2026-08-31/
CATEGORIES:Mitmachangebote,Workshop,Erwachsene,Kinder in Begleitung,4+,Mehrsprachig
ATTACH;FMTTYPE=image/jpeg:https://www.archeoparc.it/wp-content/uploads/archeoParc-schnalstal-platzhalter-e1458314677915.jpg
END:VEVENT
BEGIN:VEVENT
DTSTART;TZID=Europe/Rome:20261010T123000
DTEND;TZID=Europe/Rome:20261010T163000
DTSTAMP:20260419T194404
CREATED:20260302T152548Z
LAST-MODIFIED:20260302T152552Z
UID:10009609-1791635400-1791649800@www.archeoparc.it
SUMMARY:Handweben in der Besucherwerkstatt (Armband)
DESCRIPTION:Weben ist bereits seit der Jungsteinzeit bekannt und seither eine der wichtigsten Kulturtechniken des Menschen. Unsere Kulturvermittler laden Sie ein\, diese bis heute wichtige Kulturtechnik selbst auszuprobieren und ein Armband in Leinwandbindung herzustellen. \n\n\n\nKeine Anmeldung erforderlich | Beginn mehrmals ab 12:30 Uhr | Im Eintrittspreis enthalten | Parcours 2 | Besucherwerkstatt (#09) | Dauer: 40-60 min | Letzter Einlass für den Besuch aller Erlebnisstationen 14:00 Uhr
URL:https://www.archeoparc.it/event/bw-weben-leinwandbindung/2026-10-10/
CATEGORIES:Mitmachangebote,Workshop,Erwachsene,Kinder in Begleitung,4+,Mehrsprachig
ATTACH;FMTTYPE=image/jpeg:https://www.archeoparc.it/wp-content/uploads/archeoParc-schnalstal-platzhalter-e1458314677915.jpg
END:VEVENT
BEGIN:VEVENT
DTSTART;TZID=Europe/Rome:20261011T123000
DTEND;TZID=Europe/Rome:20261011T163000
DTSTAMP:20260419T194404
CREATED:20260302T152548Z
LAST-MODIFIED:20260302T152552Z
UID:10009610-1791721800-1791736200@www.archeoparc.it
SUMMARY:Handweben in der Besucherwerkstatt (Armband)
DESCRIPTION:Weben ist bereits seit der Jungsteinzeit bekannt und seither eine der wichtigsten Kulturtechniken des Menschen. Unsere Kulturvermittler laden Sie ein\, diese bis heute wichtige Kulturtechnik selbst auszuprobieren und ein Armband in Leinwandbindung herzustellen. \n\n\n\nKeine Anmeldung erforderlich | Beginn mehrmals ab 12:30 Uhr | Im Eintrittspreis enthalten | Parcours 2 | Besucherwerkstatt (#09) | Dauer: 40-60 min | Letzter Einlass für den Besuch aller Erlebnisstationen 14:00 Uhr
URL:https://www.archeoparc.it/event/bw-weben-leinwandbindung/2026-10-11/
CATEGORIES:Mitmachangebote,Workshop,Erwachsene,Kinder in Begleitung,4+,Mehrsprachig
ATTACH;FMTTYPE=image/jpeg:https://www.archeoparc.it/wp-content/uploads/archeoParc-schnalstal-platzhalter-e1458314677915.jpg
END:VEVENT
BEGIN:VEVENT
DTSTART;TZID=Europe/Rome:20261012T123000
DTEND;TZID=Europe/Rome:20261012T163000
DTSTAMP:20260419T194404
CREATED:20260302T152548Z
LAST-MODIFIED:20260302T152552Z
UID:10009611-1791808200-1791822600@www.archeoparc.it
SUMMARY:Handweben in der Besucherwerkstatt (Armband)
DESCRIPTION:Weben ist bereits seit der Jungsteinzeit bekannt und seither eine der wichtigsten Kulturtechniken des Menschen. Unsere Kulturvermittler laden Sie ein\, diese bis heute wichtige Kulturtechnik selbst auszuprobieren und ein Armband in Leinwandbindung herzustellen. \n\n\n\nKeine Anmeldung erforderlich | Beginn mehrmals ab 12:30 Uhr | Im Eintrittspreis enthalten | Parcours 2 | Besucherwerkstatt (#09) | Dauer: 40-60 min | Letzter Einlass für den Besuch aller Erlebnisstationen 14:00 Uhr
URL:https://www.archeoparc.it/event/bw-weben-leinwandbindung/2026-10-12/
CATEGORIES:Mitmachangebote,Workshop,Erwachsene,Kinder in Begleitung,4+,Mehrsprachig
ATTACH;FMTTYPE=image/jpeg:https://www.archeoparc.it/wp-content/uploads/archeoParc-schnalstal-platzhalter-e1458314677915.jpg
END:VEVENT
BEGIN:VEVENT
DTSTART;TZID=Europe/Rome:20261107T123000
DTEND;TZID=Europe/Rome:20261107T163000
DTSTAMP:20260419T194404
CREATED:20260302T152548Z
LAST-MODIFIED:20260302T152552Z
UID:10009612-1794054600-1794069000@www.archeoparc.it
SUMMARY:Handweben in der Besucherwerkstatt (Armband)
DESCRIPTION:Weben ist bereits seit der Jungsteinzeit bekannt und seither eine der wichtigsten Kulturtechniken des Menschen. Unsere Kulturvermittler laden Sie ein\, diese bis heute wichtige Kulturtechnik selbst auszuprobieren und ein Armband in Leinwandbindung herzustellen. \n\n\n\nKeine Anmeldung erforderlich | Beginn mehrmals ab 12:30 Uhr | Im Eintrittspreis enthalten | Parcours 2 | Besucherwerkstatt (#09) | Dauer: 40-60 min | Letzter Einlass für den Besuch aller Erlebnisstationen 14:00 Uhr
URL:https://www.archeoparc.it/event/bw-weben-leinwandbindung/2026-11-07/
CATEGORIES:Mitmachangebote,Workshop,Erwachsene,Kinder in Begleitung,4+,Mehrsprachig
ATTACH;FMTTYPE=image/jpeg:https://www.archeoparc.it/wp-content/uploads/archeoParc-schnalstal-platzhalter-e1458314677915.jpg
END:VEVENT
BEGIN:VEVENT
DTSTART;TZID=Europe/Rome:20261108T123000
DTEND;TZID=Europe/Rome:20261108T163000
DTSTAMP:20260419T194404
CREATED:20260302T152548Z
LAST-MODIFIED:20260302T152552Z
UID:10009613-1794141000-1794155400@www.archeoparc.it
SUMMARY:Handweben in der Besucherwerkstatt (Armband)
DESCRIPTION:Weben ist bereits seit der Jungsteinzeit bekannt und seither eine der wichtigsten Kulturtechniken des Menschen. Unsere Kulturvermittler laden Sie ein\, diese bis heute wichtige Kulturtechnik selbst auszuprobieren und ein Armband in Leinwandbindung herzustellen. \n\n\n\nKeine Anmeldung erforderlich | Beginn mehrmals ab 12:30 Uhr | Im Eintrittspreis enthalten | Parcours 2 | Besucherwerkstatt (#09) | Dauer: 40-60 min | Letzter Einlass für den Besuch aller Erlebnisstationen 14:00 Uhr
URL:https://www.archeoparc.it/event/bw-weben-leinwandbindung/2026-11-08/
CATEGORIES:Mitmachangebote,Workshop,Erwachsene,Kinder in Begleitung,4+,Mehrsprachig
ATTACH;FMTTYPE=image/jpeg:https://www.archeoparc.it/wp-content/uploads/archeoParc-schnalstal-platzhalter-e1458314677915.jpg
END:VEVENT
END:VCALENDAR