BEGIN:VCALENDAR
VERSION:2.0
PRODID:-//archeoParc Schnalstal - ECPv6.15.20//NONSGML v1.0//EN
CALSCALE:GREGORIAN
METHOD:PUBLISH
X-WR-CALNAME:archeoParc Schnalstal
X-ORIGINAL-URL:https://www.archeoparc.it/en/
X-WR-CALDESC:Events for archeoParc Schnalstal
REFRESH-INTERVAL;VALUE=DURATION:PT1H
X-Robots-Tag:noindex
X-PUBLISHED-TTL:PT1H
BEGIN:VTIMEZONE
TZID:Europe/Rome
BEGIN:DAYLIGHT
TZOFFSETFROM:+0100
TZOFFSETTO:+0200
TZNAME:CEST
DTSTART:20250330T010000
END:DAYLIGHT
BEGIN:STANDARD
TZOFFSETFROM:+0200
TZOFFSETTO:+0100
TZNAME:CET
DTSTART:20251026T010000
END:STANDARD
BEGIN:DAYLIGHT
TZOFFSETFROM:+0100
TZOFFSETTO:+0200
TZNAME:CEST
DTSTART:20260329T010000
END:DAYLIGHT
BEGIN:STANDARD
TZOFFSETFROM:+0200
TZOFFSETTO:+0100
TZNAME:CET
DTSTART:20261025T010000
END:STANDARD
BEGIN:DAYLIGHT
TZOFFSETFROM:+0100
TZOFFSETTO:+0200
TZNAME:CEST
DTSTART:20270328T010000
END:DAYLIGHT
BEGIN:STANDARD
TZOFFSETFROM:+0200
TZOFFSETTO:+0100
TZNAME:CET
DTSTART:20271031T010000
END:STANDARD
END:VTIMEZONE
BEGIN:VEVENT
DTSTART;TZID=Europe/Rome:20261108T133000
DTEND;TZID=Europe/Rome:20261108T153000
DTSTAMP:20260420T091745
CREATED:20260410T094742Z
LAST-MODIFIED:20260410T095707Z
UID:10012812-1794144600-1794151800@www.archeoparc.it
SUMMARY:Primal archery taster session
DESCRIPTION:At the museum’s archery range we try to shoot with a wooden longbow similar to the one found with Ötzi. After a short introduction by the archeoParc museum educators we draw the bow and aim on the targets and animals in 3D.No registration required | Every day | Several times from 13:30 | Included in the admission price | Archery range (#11) | Course 3 | Duration: approx. 30 min |  When visitor numbers are high \, the archery range opens all day and every half hour | Does not take place if the ground is wet or the weather is unsuitable | Last admission for visiting all areas and adventure stations at 14:00
URL:https://www.archeoparc.it/en/event/primal-archery-taster-session-2/2026-11-08/
CATEGORIES:no registration,adults,children accompanied by an adult,4+,multilingual
ATTACH;FMTTYPE=image/jpeg:https://www.archeoparc.it/wp-content/uploads/archeoparc-schnalstal-22020.jpg
END:VEVENT
BEGIN:VEVENT
DTSTART;TZID=Europe/Rome:20261110T083000
DTEND;TZID=Europe/Rome:20261110T170000
DTSTAMP:20260420T091745
CREATED:20260316T143536Z
LAST-MODIFIED:20260316T144245Z
UID:10010072-1794299400-1794330000@www.archeoparc.it
SUMMARY:Ötzi Glacier Tour in late autumn
DESCRIPTION:The extremely varied one day round tour crosses the main chain oft the Alps. The undisputed highlight of this accompanied glacier hiking tour is the discovery site of Ötzi the Iceman (3\,210m). Depending on the snow conditions\, the tour will take the form of either a trekking or a ski tour. Further information \n\n\n\n J O I N   T H E   T O U R !  \n\n\n\nRegistration within 17:00 the day before | start time will be announced upon registration | 160 Euro | Maso Corto\, Meetingpoint Ötzi Glacier Tour | 7-8 hours walking time plus breaks
URL:https://www.archeoparc.it/en/event/ogt-vorwinter/2026-11-10/
CATEGORIES:Museum Association,ski tour,trekking tour,adults,multilingual,reservations required,additional information in the event description
ATTACH;FMTTYPE=image/jpeg:https://www.archeoparc.it/wp-content/uploads/archeoparc-schnalstal-21021.jpg
END:VEVENT
BEGIN:VEVENT
DTSTART;TZID=Europe/Rome:20261117T083000
DTEND;TZID=Europe/Rome:20261117T170000
DTSTAMP:20260420T091745
CREATED:20260316T143536Z
LAST-MODIFIED:20260316T144245Z
UID:10010073-1794904200-1794934800@www.archeoparc.it
SUMMARY:Ötzi Glacier Tour in late autumn
DESCRIPTION:The extremely varied one day round tour crosses the main chain oft the Alps. The undisputed highlight of this accompanied glacier hiking tour is the discovery site of Ötzi the Iceman (3\,210m). Depending on the snow conditions\, the tour will take the form of either a trekking or a ski tour. Further information \n\n\n\n J O I N   T H E   T O U R !  \n\n\n\nRegistration within 17:00 the day before | start time will be announced upon registration | 160 Euro | Maso Corto\, Meetingpoint Ötzi Glacier Tour | 7-8 hours walking time plus breaks
URL:https://www.archeoparc.it/en/event/ogt-vorwinter/2026-11-17/
CATEGORIES:Museum Association,ski tour,trekking tour,adults,multilingual,reservations required,additional information in the event description
ATTACH;FMTTYPE=image/jpeg:https://www.archeoparc.it/wp-content/uploads/archeoparc-schnalstal-21021.jpg
END:VEVENT
BEGIN:VEVENT
DTSTART;TZID=Europe/Rome:20261124T083000
DTEND;TZID=Europe/Rome:20261124T170000
DTSTAMP:20260420T091745
CREATED:20260316T143536Z
LAST-MODIFIED:20260316T144245Z
UID:10010074-1795509000-1795539600@www.archeoparc.it
SUMMARY:Ötzi Glacier Tour in late autumn
DESCRIPTION:The extremely varied one day round tour crosses the main chain oft the Alps. The undisputed highlight of this accompanied glacier hiking tour is the discovery site of Ötzi the Iceman (3\,210m). Depending on the snow conditions\, the tour will take the form of either a trekking or a ski tour. Further information \n\n\n\n J O I N   T H E   T O U R !  \n\n\n\nRegistration within 17:00 the day before | start time will be announced upon registration | 160 Euro | Maso Corto\, Meetingpoint Ötzi Glacier Tour | 7-8 hours walking time plus breaks
URL:https://www.archeoparc.it/en/event/ogt-vorwinter/2026-11-24/
CATEGORIES:Museum Association,ski tour,trekking tour,adults,multilingual,reservations required,additional information in the event description
ATTACH;FMTTYPE=image/jpeg:https://www.archeoparc.it/wp-content/uploads/archeoparc-schnalstal-21021.jpg
END:VEVENT
BEGIN:VEVENT
DTSTART;TZID=Europe/Rome:20261201T083000
DTEND;TZID=Europe/Rome:20261201T170000
DTSTAMP:20260420T091745
CREATED:20260316T143536Z
LAST-MODIFIED:20260316T144245Z
UID:10010075-1796113800-1796144400@www.archeoparc.it
SUMMARY:Ötzi Glacier Tour in late autumn
DESCRIPTION:The extremely varied one day round tour crosses the main chain oft the Alps. The undisputed highlight of this accompanied glacier hiking tour is the discovery site of Ötzi the Iceman (3\,210m). Depending on the snow conditions\, the tour will take the form of either a trekking or a ski tour. Further information \n\n\n\n J O I N   T H E   T O U R !  \n\n\n\nRegistration within 17:00 the day before | start time will be announced upon registration | 160 Euro | Maso Corto\, Meetingpoint Ötzi Glacier Tour | 7-8 hours walking time plus breaks
URL:https://www.archeoparc.it/en/event/ogt-vorwinter/2026-12-01/
CATEGORIES:Museum Association,ski tour,trekking tour,adults,multilingual,reservations required,additional information in the event description
ATTACH;FMTTYPE=image/jpeg:https://www.archeoparc.it/wp-content/uploads/archeoparc-schnalstal-21021.jpg
END:VEVENT
BEGIN:VEVENT
DTSTART;TZID=Europe/Rome:20261208T083000
DTEND;TZID=Europe/Rome:20261208T170000
DTSTAMP:20260420T091745
CREATED:20260316T143536Z
LAST-MODIFIED:20260316T144245Z
UID:10010076-1796718600-1796749200@www.archeoparc.it
SUMMARY:Ötzi Glacier Tour in late autumn
DESCRIPTION:The extremely varied one day round tour crosses the main chain oft the Alps. The undisputed highlight of this accompanied glacier hiking tour is the discovery site of Ötzi the Iceman (3\,210m). Depending on the snow conditions\, the tour will take the form of either a trekking or a ski tour. Further information \n\n\n\n J O I N   T H E   T O U R !  \n\n\n\nRegistration within 17:00 the day before | start time will be announced upon registration | 160 Euro | Maso Corto\, Meetingpoint Ötzi Glacier Tour | 7-8 hours walking time plus breaks
URL:https://www.archeoparc.it/en/event/ogt-vorwinter/2026-12-08/
CATEGORIES:Museum Association,ski tour,trekking tour,adults,multilingual,reservations required,additional information in the event description
ATTACH;FMTTYPE=image/jpeg:https://www.archeoparc.it/wp-content/uploads/archeoparc-schnalstal-21021.jpg
END:VEVENT
BEGIN:VEVENT
DTSTART;TZID=Europe/Rome:20261215T083000
DTEND;TZID=Europe/Rome:20261215T170000
DTSTAMP:20260420T091745
CREATED:20260316T143536Z
LAST-MODIFIED:20260316T144245Z
UID:10010077-1797323400-1797354000@www.archeoparc.it
SUMMARY:Ötzi Glacier Tour in late autumn
DESCRIPTION:The extremely varied one day round tour crosses the main chain oft the Alps. The undisputed highlight of this accompanied glacier hiking tour is the discovery site of Ötzi the Iceman (3\,210m). Depending on the snow conditions\, the tour will take the form of either a trekking or a ski tour. Further information \n\n\n\n J O I N   T H E   T O U R !  \n\n\n\nRegistration within 17:00 the day before | start time will be announced upon registration | 160 Euro | Maso Corto\, Meetingpoint Ötzi Glacier Tour | 7-8 hours walking time plus breaks
URL:https://www.archeoparc.it/en/event/ogt-vorwinter/2026-12-15/
CATEGORIES:Museum Association,ski tour,trekking tour,adults,multilingual,reservations required,additional information in the event description
ATTACH;FMTTYPE=image/jpeg:https://www.archeoparc.it/wp-content/uploads/archeoparc-schnalstal-21021.jpg
END:VEVENT
BEGIN:VEVENT
DTSTART;TZID=Europe/Rome:20261222T083000
DTEND;TZID=Europe/Rome:20261222T170000
DTSTAMP:20260420T091745
CREATED:20260316T143536Z
LAST-MODIFIED:20260316T144245Z
UID:10010078-1797928200-1797958800@www.archeoparc.it
SUMMARY:Ötzi Glacier Tour in late autumn
DESCRIPTION:The extremely varied one day round tour crosses the main chain oft the Alps. The undisputed highlight of this accompanied glacier hiking tour is the discovery site of Ötzi the Iceman (3\,210m). Depending on the snow conditions\, the tour will take the form of either a trekking or a ski tour. Further information \n\n\n\n J O I N   T H E   T O U R !  \n\n\n\nRegistration within 17:00 the day before | start time will be announced upon registration | 160 Euro | Maso Corto\, Meetingpoint Ötzi Glacier Tour | 7-8 hours walking time plus breaks
URL:https://www.archeoparc.it/en/event/ogt-vorwinter/2026-12-22/
CATEGORIES:Museum Association,ski tour,trekking tour,adults,multilingual,reservations required,additional information in the event description
ATTACH;FMTTYPE=image/jpeg:https://www.archeoparc.it/wp-content/uploads/archeoparc-schnalstal-21021.jpg
END:VEVENT
END:VCALENDAR